BEGIN:VCALENDAR
VERSION:2.0
PRODID:-//Eventin//Event Calendar//EN
CALSCALE:GREGORIAN
METHOD:PUBLISH
BEGIN:VEVENT
UID:c337e6e502e3f79be5cb9ce0861e7dd5@saintplacide.ca
SUMMARY:Séance du conseil municipal
DESCRIPTION:
LOCATION:281\, montée Saint-Vincent à Saint-Placide
DTSTAMP:20260422T151455Z
DTSTART:20260519T233000Z
DTEND:20260520T010000Z
END:VEVENT
END:VCALENDAR
