BEGIN:VCALENDAR
VERSION:2.0
PRODID:-//Eventin//Event Calendar//EN
CALSCALE:GREGORIAN
METHOD:PUBLISH
BEGIN:VEVENT
UID:df59ac5b40f0e4c55d802f67ea3604d2@saintplacide.ca
SUMMARY:Assemblée générale extraordinaire du COSS
DESCRIPTION:
LOCATION:Salle Jean-Paul Carrières
DTSTAMP:20260422T173041Z
DTSTART:20260429T230000Z
DTEND:20260430T010000Z
END:VEVENT
END:VCALENDAR
